BEGIN:VCALENDAR
VERSION:2.0
PRODID:-//Midnight Sun - ECPv6.15.20//NONSGML v1.0//EN
CALSCALE:GREGORIAN
METHOD:PUBLISH
X-ORIGINAL-URL:https://midnightsunco.com
X-WR-CALDESC:Events for Midnight Sun
REFRESH-INTERVAL;VALUE=DURATION:PT1H
X-Robots-Tag:noindex
X-PUBLISHED-TTL:PT1H
BEGIN:VTIMEZONE
TZID:America/New_York
BEGIN:DAYLIGHT
TZOFFSETFROM:-0500
TZOFFSETTO:-0400
TZNAME:EDT
DTSTART:20250309T070000
END:DAYLIGHT
BEGIN:STANDARD
TZOFFSETFROM:-0400
TZOFFSETTO:-0500
TZNAME:EST
DTSTART:20251102T060000
END:STANDARD
BEGIN:DAYLIGHT
TZOFFSETFROM:-0500
TZOFFSETTO:-0400
TZNAME:EDT
DTSTART:20260308T070000
END:DAYLIGHT
BEGIN:STANDARD
TZOFFSETFROM:-0400
TZOFFSETTO:-0500
TZNAME:EST
DTSTART:20261101T060000
END:STANDARD
BEGIN:DAYLIGHT
TZOFFSETFROM:-0500
TZOFFSETTO:-0400
TZNAME:EDT
DTSTART:20270314T070000
END:DAYLIGHT
BEGIN:STANDARD
TZOFFSETFROM:-0400
TZOFFSETTO:-0500
TZNAME:EST
DTSTART:20271107T060000
END:STANDARD
END:VTIMEZONE
BEGIN:VEVENT
DTSTART;TZID=America/New_York:20260501T220000
DTEND;TZID=America/New_York:20260502T013000
DTSTAMP:20260422T153251
CREATED:20260115T225621Z
LAST-MODIFIED:20260204T184616Z
UID:1219-1777672800-1777685400@midnightsunco.com
SUMMARY:NoFilter @ NOLA'S BAR - OCEAN CASINO
DESCRIPTION:Ocean Casino | Atlantic City\, NJ •  Venue Info
URL:https://midnightsunco.com/event/no-filter-nolas-bar-ocean-casino/
LOCATION:Nola’s Bar & Lounge\, 500 Boardwalk\, Atlantic City\, NJ\, United States
CATEGORIES:NoFilter
END:VEVENT
BEGIN:VEVENT
DTSTART;TZID=America/New_York:20260502T200000
DTEND;TZID=America/New_York:20260502T230000
DTSTAMP:20260422T153251
CREATED:20260115T225621Z
LAST-MODIFIED:20260204T184616Z
UID:1220-1777752000-1777762800@midnightsunco.com
SUMMARY:NoFilter @ RED ROCK TAP + GRILL
DESCRIPTION:Red Bank\, NJ •  \nhttps://redrockrb.com
URL:https://midnightsunco.com/event/no-filter-red-rock-tap-grill/
LOCATION:Red Rock Tap + Grill\, 14 Wharf Ave\, Red Bank\, NJ\, United States
CATEGORIES:NoFilter
END:VEVENT
BEGIN:VEVENT
DTSTART;TZID=America/New_York:20260502T220000
DTEND;TZID=America/New_York:20260503T020000
DTSTAMP:20260422T153251
CREATED:20260113T213459Z
LAST-MODIFIED:20260420T182418Z
UID:1171-1777759200-1777773600@midnightsunco.com
SUMMARY:LOST IN PARIS @ SEACRETS
DESCRIPTION:Ocean City\, MD •  \nhttps://seacrets.com/
URL:https://midnightsunco.com/event/lost-in-paris-seacrets-17/
LOCATION:Seacrets\, 117 49th St\, Ocean City\, MD\, United States
CATEGORIES:Lost In Paris
END:VEVENT
BEGIN:VEVENT
DTSTART;TZID=America/New_York:20260506T214500
DTEND;TZID=America/New_York:20260507T010000
DTSTAMP:20260422T153251
CREATED:20260113T213459Z
LAST-MODIFIED:20260420T182418Z
UID:1172-1778103900-1778115600@midnightsunco.com
SUMMARY:LOST IN PARIS (DUO) @ THE STARBOARD
DESCRIPTION:Dewey Beach\, DE •  \nhttps://thestarboard.com/
URL:https://midnightsunco.com/event/lost-in-paris-duo-the-starboard-7/
LOCATION:The Starboard\, 30301 Den Dr\, Milton\, DE\, United States
CATEGORIES:Lost In Paris
END:VEVENT
BEGIN:VEVENT
DTSTART;TZID=America/New_York:20260508T210000
DTEND;TZID=America/New_York:20260509T020000
DTSTAMP:20260422T153251
CREATED:20260113T213500Z
LAST-MODIFIED:20260420T182419Z
UID:1174-1778274000-1778292000@midnightsunco.com
SUMMARY:LOST IN PARIS @ STATION 142
DESCRIPTION:West Chester\, PA •  \nhttps://station142.com
URL:https://midnightsunco.com/event/lost-in-paris-station-142-4/
LOCATION:Station 142\, 142 E Market St\, West Chester\, PA\, United States
CATEGORIES:Lost In Paris
END:VEVENT
BEGIN:VEVENT
DTSTART;TZID=America/New_York:20260508T214500
DTEND;TZID=America/New_York:20260509T010000
DTSTAMP:20260422T153251
CREATED:20260115T225621Z
LAST-MODIFIED:20260204T184616Z
UID:1221-1778276700-1778288400@midnightsunco.com
SUMMARY:NoFilter @ THE STARBOARD
DESCRIPTION:Dewey Beach\, DE •  \nhttps://thestarboard.com/
URL:https://midnightsunco.com/event/no-filter-the-starboard/
LOCATION:The Starboard\, 30301 Den Dr\, Milton\, DE\, United States
CATEGORIES:NoFilter
END:VEVENT
BEGIN:VEVENT
DTSTART;VALUE=DATE:20260509
DTEND;VALUE=DATE:20260511
DTSTAMP:20260422T153251
CREATED:20260113T213500Z
LAST-MODIFIED:20260420T182418Z
UID:1173-1778299200-1778385599@midnightsunco.com
SUMMARY:LOST IN PARIS @ PRIVATE EVENT
DESCRIPTION:
URL:https://midnightsunco.com/event/lost-in-paris-private-event-26/
LOCATION:PA
CATEGORIES:Lost In Paris
END:VEVENT
BEGIN:VEVENT
DTSTART;TZID=America/New_York:20260509T190000
DTEND;TZID=America/New_York:20260509T230000
DTSTAMP:20260422T153251
CREATED:20260115T225621Z
LAST-MODIFIED:20260204T184616Z
UID:1222-1778353200-1778367600@midnightsunco.com
SUMMARY:NoFilter @ CHESAPEAKE INN
DESCRIPTION:Chesapeake City\, MD •  \nhttps://chesapeakeinn.com/
URL:https://midnightsunco.com/event/no-filter-chesapeake-inn/
LOCATION:Chesapeake Inn Restaurant & Marina\, 605 2nd St\, Chesapeake City\, MD\, United States
CATEGORIES:NoFilter
END:VEVENT
BEGIN:VEVENT
DTSTART;TZID=America/New_York:20260513T214500
DTEND;TZID=America/New_York:20260514T010000
DTSTAMP:20260422T153251
CREATED:20260113T213500Z
LAST-MODIFIED:20260420T182419Z
UID:1175-1778708700-1778720400@midnightsunco.com
SUMMARY:LOST IN PARIS (DUO) @ THE STARBOARD
DESCRIPTION:Dewey Beach\, DE •  \nhttps://thestarboard.com/
URL:https://midnightsunco.com/event/lost-in-paris-duo-the-starboard-8/
LOCATION:The Starboard\, 30301 Den Dr\, Milton\, DE\, United States
CATEGORIES:Lost In Paris
END:VEVENT
BEGIN:VEVENT
DTSTART;TZID=America/New_York:20260515T190000
DTEND;TZID=America/New_York:20260515T230000
DTSTAMP:20260422T153251
CREATED:20260113T213501Z
LAST-MODIFIED:20260420T182419Z
UID:1176-1778871600-1778886000@midnightsunco.com
SUMMARY:LOST IN PARIS @ CHESAPEAKE INN
DESCRIPTION:Chesapeake City\, MD •  \nhttps://chesapeakeinn.com/
URL:https://midnightsunco.com/event/lost-in-paris-chesapeake-inn-8/
LOCATION:Chesapeake Inn Restaurant & Marina\, 605 2nd St\, Chesapeake City\, MD\, United States
CATEGORIES:Lost In Paris
END:VEVENT
BEGIN:VEVENT
DTSTART;TZID=America/New_York:20260516T210000
DTEND;TZID=America/New_York:20260517T010000
DTSTAMP:20260422T153251
CREATED:20260113T213501Z
LAST-MODIFIED:20260420T182419Z
UID:1177-1778965200-1778979600@midnightsunco.com
SUMMARY:LOST IN PARIS @ SEACRETS - BEACH STAGE
DESCRIPTION:Ocean City\, MD •  \nhttps://seacrets.com/
URL:https://midnightsunco.com/event/lost-in-paris-seacrets-beach-stage/
LOCATION:Seacrets\, 117 49th St\, Ocean City\, MD\, United States
CATEGORIES:Lost In Paris
END:VEVENT
BEGIN:VEVENT
DTSTART;TZID=America/New_York:20260516T220000
DTEND;TZID=America/New_York:20260517T020000
DTSTAMP:20260422T153251
CREATED:20260115T225621Z
LAST-MODIFIED:20260204T184617Z
UID:1223-1778968800-1778983200@midnightsunco.com
SUMMARY:NoFilter @ THE WEST - CAESARS
DESCRIPTION:Atlantic City\, NJ •  Venue Info
URL:https://midnightsunco.com/event/no-filter-the-west-caesars/
LOCATION:Caesars Atlantic City – A Caesars Rewards Destination\, 2100 Pacific Ave\, Atlantic City\, NJ\, United States
CATEGORIES:NoFilter
END:VEVENT
BEGIN:VEVENT
DTSTART;TZID=America/New_York:20260517T160000
DTEND;TZID=America/New_York:20260517T190000
DTSTAMP:20260422T153251
CREATED:20260420T182419Z
LAST-MODIFIED:20260420T182419Z
UID:1500-1779033600-1779044400@midnightsunco.com
SUMMARY:LOST IN PARIS @ STATION 142 - ONE YEAR ANNIVERSARY!
DESCRIPTION:West Chester\, PA •  \nhttps://station142.com
URL:https://midnightsunco.com/event/lost-in-paris-station-142-one-year-anniversary/
LOCATION:Station 142\, 142 E Market St\, West Chester\, PA\, United States
CATEGORIES:Lost In Paris
END:VEVENT
BEGIN:VEVENT
DTSTART;TZID=America/New_York:20260520T214500
DTEND;TZID=America/New_York:20260521T010000
DTSTAMP:20260422T153251
CREATED:20260113T213502Z
LAST-MODIFIED:20260420T182419Z
UID:1178-1779313500-1779325200@midnightsunco.com
SUMMARY:LOST IN PARIS @ THE STARBOARD
DESCRIPTION:Dewey Beach\, DE •  \nhttps://thestarboard.com/
URL:https://midnightsunco.com/event/lost-in-paris-the-starboard-22/
LOCATION:The Starboard\, 30301 Den Dr\, Milton\, DE\, United States
CATEGORIES:Lost In Paris
END:VEVENT
BEGIN:VEVENT
DTSTART;TZID=America/New_York:20260521T214500
DTEND;TZID=America/New_York:20260522T010000
DTSTAMP:20260422T153251
CREATED:20260115T225621Z
LAST-MODIFIED:20260204T184617Z
UID:1224-1779399900-1779411600@midnightsunco.com
SUMMARY:NoFilter @ THE STARBOARD
DESCRIPTION:Dewey Beach\, DE •  \nhttps://thestarboard.com/
URL:https://midnightsunco.com/event/no-filter-the-starboard-2/
LOCATION:The Starboard\, 30301 Den Dr\, Milton\, DE\, United States
CATEGORIES:NoFilter
END:VEVENT
BEGIN:VEVENT
DTSTART;TZID=America/New_York:20260522T183000
DTEND;TZID=America/New_York:20260522T220000
DTSTAMP:20260422T153251
CREATED:20260113T213503Z
LAST-MODIFIED:20260420T182419Z
UID:1179-1779474600-1779487200@midnightsunco.com
SUMMARY:LOST IN PARIS @ FRIDAY NIGHT LIVE! - HERNDON ROCKS
DESCRIPTION:Herndon\, VA •  \nhttps://www.herndonrocks.com
URL:https://midnightsunco.com/event/lost-in-paris-friday-night-live-herndon-rocks-2/
LOCATION:777 Lynn St\, Herndon\, VA\, United States
CATEGORIES:Lost In Paris
END:VEVENT
BEGIN:VEVENT
DTSTART;TZID=America/New_York:20260522T210000
DTEND;TZID=America/New_York:20260523T010000
DTSTAMP:20260422T153251
CREATED:20260115T225622Z
LAST-MODIFIED:20260204T184617Z
UID:1225-1779483600-1779498000@midnightsunco.com
SUMMARY:NoFilter @ SEACRETS - BEACH STAGE
DESCRIPTION:Ocean City\, MD •  \nhttps://seacrets.com/
URL:https://midnightsunco.com/event/no-filter-seacrets-beach-stage/
LOCATION:Seacrets\, 117 49th St\, Ocean City\, MD\, United States
CATEGORIES:NoFilter
END:VEVENT
BEGIN:VEVENT
DTSTART;TZID=America/New_York:20260523T210000
DTEND;TZID=America/New_York:20260524T010000
DTSTAMP:20260422T153251
CREATED:20260115T225622Z
LAST-MODIFIED:20260204T184617Z
UID:1226-1779570000-1779584400@midnightsunco.com
SUMMARY:NoFilter @ SEACRETS - BEACH STAGE
DESCRIPTION:Ocean City\, MD •  \nhttps://seacrets.com/
URL:https://midnightsunco.com/event/no-filter-seacrets-beach-stage-2/
LOCATION:Seacrets\, 117 49th St\, Ocean City\, MD\, United States
CATEGORIES:NoFilter
END:VEVENT
BEGIN:VEVENT
DTSTART;TZID=America/New_York:20260523T220000
DTEND;TZID=America/New_York:20260524T020000
DTSTAMP:20260422T153251
CREATED:20260113T213504Z
LAST-MODIFIED:20260420T182419Z
UID:1180-1779573600-1779588000@midnightsunco.com
SUMMARY:LOST IN PARIS @ SEACRETS
DESCRIPTION:Ocean City\, MD •  \nhttps://seacrets.com/
URL:https://midnightsunco.com/event/lost-in-paris-seacrets-18/
LOCATION:Seacrets\, 117 49th St\, Ocean City\, MD\, United States
CATEGORIES:Lost In Paris
END:VEVENT
BEGIN:VEVENT
DTSTART;TZID=America/New_York:20260524T220000
DTEND;TZID=America/New_York:20260525T020000
DTSTAMP:20260422T153251
CREATED:20260113T213504Z
LAST-MODIFIED:20260420T182419Z
UID:1181-1779660000-1779674400@midnightsunco.com
SUMMARY:LOST IN PARIS @ SEACRETS
DESCRIPTION:Ocean City\, MD •  \nhttps://seacrets.com/
URL:https://midnightsunco.com/event/lost-in-paris-seacrets-19/
LOCATION:Seacrets\, 117 49th St\, Ocean City\, MD\, United States
CATEGORIES:Lost In Paris
END:VEVENT
BEGIN:VEVENT
DTSTART;TZID=America/New_York:20260527T214500
DTEND;TZID=America/New_York:20260528T010000
DTSTAMP:20260422T153251
CREATED:20260113T213505Z
LAST-MODIFIED:20260420T182419Z
UID:1182-1779918300-1779930000@midnightsunco.com
SUMMARY:LOST IN PARIS @ THE STARBOARD
DESCRIPTION:Dewey Beach\, DE •  \nhttps://thestarboard.com/
URL:https://midnightsunco.com/event/lost-in-paris-the-starboard-23/
LOCATION:The Starboard\, 30301 Den Dr\, Milton\, DE\, United States
CATEGORIES:Lost In Paris
END:VEVENT
BEGIN:VEVENT
DTSTART;TZID=America/New_York:20260528T214500
DTEND;TZID=America/New_York:20260529T010000
DTSTAMP:20260422T153251
CREATED:20260115T225622Z
LAST-MODIFIED:20260204T184617Z
UID:1227-1780004700-1780016400@midnightsunco.com
SUMMARY:NoFilter @ THE STARBOARD
DESCRIPTION:Dewey Beach\, DE •  \nhttps://thestarboard.com/
URL:https://midnightsunco.com/event/no-filter-the-starboard-3/
LOCATION:The Starboard\, 30301 Den Dr\, Milton\, DE\, United States
CATEGORIES:NoFilter
END:VEVENT
BEGIN:VEVENT
DTSTART;TZID=America/New_York:20260529T220000
DTEND;TZID=America/New_York:20260530T020000
DTSTAMP:20260422T153251
CREATED:20260113T213507Z
LAST-MODIFIED:20260420T182419Z
UID:1184-1780092000-1780106400@midnightsunco.com
SUMMARY:LOST IN PARIS @ THE PRINCETON
DESCRIPTION:Avalon\, NJ •  \nhttps://www.princetonbar.com/
URL:https://midnightsunco.com/event/lost-in-paris-the-princeton-3/
LOCATION:Princeton Bar & Grill\, 2008 Dune Dr\, Avalon\, NJ\, United States
CATEGORIES:Lost In Paris
END:VEVENT
BEGIN:VEVENT
DTSTART;VALUE=DATE:20260530
DTEND;VALUE=DATE:20260601
DTSTAMP:20260422T153251
CREATED:20260113T213506Z
LAST-MODIFIED:20260420T182420Z
UID:1183-1780113600-1780199999@midnightsunco.com
SUMMARY:LOST IN PARIS @ PRIVATE EVENT
DESCRIPTION:
URL:https://midnightsunco.com/event/lost-in-paris-private-event-27/
LOCATION:PA
CATEGORIES:Lost In Paris
END:VEVENT
BEGIN:VEVENT
DTSTART;TZID=America/New_York:20260530T200000
DTEND;TZID=America/New_York:20260530T230000
DTSTAMP:20260422T153251
CREATED:20260115T225622Z
LAST-MODIFIED:20260204T184617Z
UID:1228-1780171200-1780182000@midnightsunco.com
SUMMARY:NoFilter @ RED ROCK TAP + GRILL
DESCRIPTION:Red Bank\, NJ •  \nhttps://redrockrb.com
URL:https://midnightsunco.com/event/no-filter-red-rock-tap-grill-2/
LOCATION:Red Rock Tap + Grill\, 14 Wharf Ave\, Red Bank\, NJ\, United States
CATEGORIES:NoFilter
END:VEVENT
BEGIN:VEVENT
DTSTART;TZID=America/New_York:20260531T213000
DTEND;TZID=America/New_York:20260601T010000
DTSTAMP:20260422T153251
CREATED:20260115T225627Z
LAST-MODIFIED:20260204T184617Z
UID:1239-1780263000-1780275600@midnightsunco.com
SUMMARY:NoFilter @ LOBBY BAR - HARD ROCK CASINO
DESCRIPTION:Atlantic City\, NJ •  \nVenue Info
URL:https://midnightsunco.com/event/no-filter-lobby-bar-hard-rock-casino/
LOCATION:Hard Rock Hotel & Casino Atlantic City\, 1000 Boardwalk\, Atlantic City\, NJ\, United States
CATEGORIES:NoFilter
END:VEVENT
END:VCALENDAR