BEGIN:VCALENDAR
VERSION:2.0
PRODID:-//Midnight Sun - ECPv6.15.20//NONSGML v1.0//EN
CALSCALE:GREGORIAN
METHOD:PUBLISH
X-ORIGINAL-URL:https://midnightsunco.com
X-WR-CALDESC:Events for Midnight Sun
REFRESH-INTERVAL;VALUE=DURATION:PT1H
X-Robots-Tag:noindex
X-PUBLISHED-TTL:PT1H
BEGIN:VTIMEZONE
TZID:America/New_York
BEGIN:DAYLIGHT
TZOFFSETFROM:-0500
TZOFFSETTO:-0400
TZNAME:EDT
DTSTART:20250309T070000
END:DAYLIGHT
BEGIN:STANDARD
TZOFFSETFROM:-0400
TZOFFSETTO:-0500
TZNAME:EST
DTSTART:20251102T060000
END:STANDARD
BEGIN:DAYLIGHT
TZOFFSETFROM:-0500
TZOFFSETTO:-0400
TZNAME:EDT
DTSTART:20260308T070000
END:DAYLIGHT
BEGIN:STANDARD
TZOFFSETFROM:-0400
TZOFFSETTO:-0500
TZNAME:EST
DTSTART:20261101T060000
END:STANDARD
BEGIN:DAYLIGHT
TZOFFSETFROM:-0500
TZOFFSETTO:-0400
TZNAME:EDT
DTSTART:20270314T070000
END:DAYLIGHT
BEGIN:STANDARD
TZOFFSETFROM:-0400
TZOFFSETTO:-0500
TZNAME:EST
DTSTART:20271107T060000
END:STANDARD
END:VTIMEZONE
BEGIN:VEVENT
DTSTART;TZID=America/New_York:20260603T214500
DTEND;TZID=America/New_York:20260604T010000
DTSTAMP:20260422T153402
CREATED:20260113T213507Z
LAST-MODIFIED:20260420T182420Z
UID:1185-1780523100-1780534800@midnightsunco.com
SUMMARY:LOST IN PARIS @ THE STARBOARD
DESCRIPTION:Dewey Beach\, DE •  \nhttps://thestarboard.com/
URL:https://midnightsunco.com/event/lost-in-paris-the-starboard-24/
LOCATION:The Starboard\, 30301 Den Dr\, Milton\, DE\, United States
CATEGORIES:Lost In Paris
END:VEVENT
BEGIN:VEVENT
DTSTART;VALUE=DATE:20260605
DTEND;VALUE=DATE:20260607
DTSTAMP:20260422T153402
CREATED:20260113T213507Z
LAST-MODIFIED:20260420T182420Z
UID:1186-1780632000-1780718399@midnightsunco.com
SUMMARY:LOST IN PARIS @ PRIVATE EVENT
DESCRIPTION:
URL:https://midnightsunco.com/event/lost-in-paris-private-event-28/
LOCATION:PA
CATEGORIES:Lost In Paris
END:VEVENT
BEGIN:VEVENT
DTSTART;TZID=America/New_York:20260606T220000
DTEND;TZID=America/New_York:20260607T013000
DTSTAMP:20260422T153402
CREATED:20260113T213508Z
LAST-MODIFIED:20260420T182420Z
UID:1187-1780783200-1780795800@midnightsunco.com
SUMMARY:LOST IN PARIS @ NOLA'S BAR - OCEAN CASINO
DESCRIPTION:Ocean Casino | Atlantic City\, NJ •  Venue Info
URL:https://midnightsunco.com/event/lost-in-paris-nolas-bar-ocean-casino-10/
LOCATION:Nola’s Bar & Lounge\, 500 Boardwalk\, Atlantic City\, NJ\, United States
CATEGORIES:Lost In Paris
END:VEVENT
BEGIN:VEVENT
DTSTART;TZID=America/New_York:20260610T214500
DTEND;TZID=America/New_York:20260611T010000
DTSTAMP:20260422T153402
CREATED:20260113T213508Z
LAST-MODIFIED:20260420T182420Z
UID:1188-1781127900-1781139600@midnightsunco.com
SUMMARY:LOST IN PARIS @ THE STARBOARD
DESCRIPTION:Dewey Beach\, DE •  \nhttps://thestarboard.com/
URL:https://midnightsunco.com/event/lost-in-paris-the-starboard-25/
LOCATION:The Starboard\, 30301 Den Dr\, Milton\, DE\, United States
CATEGORIES:Lost In Paris
END:VEVENT
BEGIN:VEVENT
DTSTART;TZID=America/New_York:20260611T220000
DTEND;TZID=America/New_York:20260612T020000
DTSTAMP:20260422T153402
CREATED:20260113T213509Z
LAST-MODIFIED:20260420T182420Z
UID:1190-1781215200-1781229600@midnightsunco.com
SUMMARY:LOST IN PARIS @ SEACRETS
DESCRIPTION:Ocean City\, MD •  \nhttps://seacrets.com/
URL:https://midnightsunco.com/event/lost-in-paris-seacrets-20/
LOCATION:Seacrets\, 117 49th St\, Ocean City\, MD\, United States
CATEGORIES:Lost In Paris
END:VEVENT
BEGIN:VEVENT
DTSTART;VALUE=DATE:20260612
DTEND;VALUE=DATE:20260614
DTSTAMP:20260422T153402
CREATED:20260113T213509Z
LAST-MODIFIED:20260420T182420Z
UID:1189-1781236800-1781323199@midnightsunco.com
SUMMARY:LOST IN PARIS @ PRIVATE EVENT
DESCRIPTION:
URL:https://midnightsunco.com/event/lost-in-paris-private-event-29/
LOCATION:PA
CATEGORIES:Lost In Paris
END:VEVENT
BEGIN:VEVENT
DTSTART;TZID=America/New_York:20260617T214500
DTEND;TZID=America/New_York:20260618T010000
DTSTAMP:20260422T153402
CREATED:20260113T213510Z
LAST-MODIFIED:20260420T182420Z
UID:1191-1781732700-1781744400@midnightsunco.com
SUMMARY:LOST IN PARIS @ THE STARBOARD
DESCRIPTION:Dewey Beach\, DE •  \nhttps://thestarboard.com/
URL:https://midnightsunco.com/event/lost-in-paris-the-starboard-26/
LOCATION:The Starboard\, 30301 Den Dr\, Milton\, DE\, United States
CATEGORIES:Lost In Paris
END:VEVENT
BEGIN:VEVENT
DTSTART;TZID=America/New_York:20260619T210000
DTEND;TZID=America/New_York:20260620T010000
DTSTAMP:20260422T153402
CREATED:20260113T213510Z
LAST-MODIFIED:20260420T182420Z
UID:1192-1781902800-1781917200@midnightsunco.com
SUMMARY:LOST IN PARIS @ SEACRETS - BEACH STAGE
DESCRIPTION:Ocean City\, MD •  \nhttps://seacrets.com/
URL:https://midnightsunco.com/event/lost-in-paris-seacrets-beach-stage-2/
LOCATION:Seacrets\, 117 49th St\, Ocean City\, MD\, United States
CATEGORIES:Lost In Paris
END:VEVENT
BEGIN:VEVENT
DTSTART;TZID=America/New_York:20260620T223000
DTEND;TZID=America/New_York:20260621T020000
DTSTAMP:20260422T153402
CREATED:20260113T213511Z
LAST-MODIFIED:20260420T182420Z
UID:1194-1781994600-1782007200@midnightsunco.com
SUMMARY:LOST IN PARIS @ OCEAN DRIVE
DESCRIPTION:Sea Isle City\, NJ •  \nhttp://www.theod.com/
URL:https://midnightsunco.com/event/lost-in-paris-ocean-drive-3/
LOCATION:Ocean Drive Bar & Restaurant\, 3915 Landis Ave\, Sea Isle City\, NJ\, United States
CATEGORIES:Lost In Paris
END:VEVENT
BEGIN:VEVENT
DTSTART;TZID=America/New_York:20260624T214500
DTEND;TZID=America/New_York:20260625T010000
DTSTAMP:20260422T153402
CREATED:20260113T213511Z
LAST-MODIFIED:20260420T182420Z
UID:1195-1782337500-1782349200@midnightsunco.com
SUMMARY:LOST IN PARIS @ THE STARBOARD
DESCRIPTION:Dewey Beach\, DE •  \nhttps://thestarboard.com/
URL:https://midnightsunco.com/event/lost-in-paris-the-starboard-27/
LOCATION:The Starboard\, 30301 Den Dr\, Milton\, DE\, United States
CATEGORIES:Lost In Paris
END:VEVENT
BEGIN:VEVENT
DTSTART;VALUE=DATE:20260626
DTEND;VALUE=DATE:20260628
DTSTAMP:20260422T153402
CREATED:20260113T213511Z
LAST-MODIFIED:20260420T182420Z
UID:1196-1782446400-1782532799@midnightsunco.com
SUMMARY:LOST IN PARIS @ PRIVATE EVENT
DESCRIPTION:
URL:https://midnightsunco.com/event/lost-in-paris-private-event-30/
LOCATION:PA
CATEGORIES:Lost In Paris
END:VEVENT
BEGIN:VEVENT
DTSTART;TZID=America/New_York:20260627T220000
DTEND;TZID=America/New_York:20260628T020000
DTSTAMP:20260422T153402
CREATED:20260417T184908Z
LAST-MODIFIED:20260420T182420Z
UID:1495-1782597600-1782612000@midnightsunco.com
SUMMARY:LOST IN PARIS @ THE WEST - CAESARS
DESCRIPTION:Atlantic City\, NJ •  Venue Info
URL:https://midnightsunco.com/event/lost-in-paris-the-west-caesars-6/
LOCATION:Caesars Atlantic City – A Caesars Rewards Destination\, 2100 Pacific Ave\, Atlantic City\, NJ\, United States
CATEGORIES:Lost In Paris
END:VEVENT
END:VCALENDAR