BEGIN:VCALENDAR
VERSION:2.0
PRODID:-//Midnight Sun - ECPv6.15.20//NONSGML v1.0//EN
CALSCALE:GREGORIAN
METHOD:PUBLISH
X-ORIGINAL-URL:https://midnightsunco.com
X-WR-CALDESC:Events for Midnight Sun
REFRESH-INTERVAL;VALUE=DURATION:PT1H
X-Robots-Tag:noindex
X-PUBLISHED-TTL:PT1H
BEGIN:VTIMEZONE
TZID:America/New_York
BEGIN:DAYLIGHT
TZOFFSETFROM:-0500
TZOFFSETTO:-0400
TZNAME:EDT
DTSTART:20250309T070000
END:DAYLIGHT
BEGIN:STANDARD
TZOFFSETFROM:-0400
TZOFFSETTO:-0500
TZNAME:EST
DTSTART:20251102T060000
END:STANDARD
BEGIN:DAYLIGHT
TZOFFSETFROM:-0500
TZOFFSETTO:-0400
TZNAME:EDT
DTSTART:20260308T070000
END:DAYLIGHT
BEGIN:STANDARD
TZOFFSETFROM:-0400
TZOFFSETTO:-0500
TZNAME:EST
DTSTART:20261101T060000
END:STANDARD
BEGIN:DAYLIGHT
TZOFFSETFROM:-0500
TZOFFSETTO:-0400
TZNAME:EDT
DTSTART:20270314T070000
END:DAYLIGHT
BEGIN:STANDARD
TZOFFSETFROM:-0400
TZOFFSETTO:-0500
TZNAME:EST
DTSTART:20271107T060000
END:STANDARD
END:VTIMEZONE
BEGIN:VEVENT
DTSTART;TZID=America/New_York:20260306T220000
DTEND;TZID=America/New_York:20260307T020000
DTSTAMP:20260422T142050
CREATED:20251110T234741Z
LAST-MODIFIED:20260203T194113Z
UID:1074-1772834400-1772848800@midnightsunco.com
SUMMARY:LOST IN PARIS @ THE HARP
DESCRIPTION:Boston\, MA •  \nhttps://harpboston.com/
URL:https://midnightsunco.com/event/lost-in-paris-the-harp-7/
LOCATION:The Harp Boston\, 85 Causeway St\, Boston\, MA\, United States
CATEGORIES:Lost In Paris
END:VEVENT
BEGIN:VEVENT
DTSTART;TZID=America/New_York:20260307T220000
DTEND;TZID=America/New_York:20260308T030000
DTSTAMP:20260422T142050
CREATED:20251110T234742Z
LAST-MODIFIED:20260203T194114Z
UID:1075-1772920800-1772938800@midnightsunco.com
SUMMARY:LOST IN PARIS @ THE HARP
DESCRIPTION:Boston\, MA •  \nhttps://harpboston.com/
URL:https://midnightsunco.com/event/lost-in-paris-the-harp-8/
LOCATION:The Harp Boston\, 85 Causeway St\, Boston\, MA\, United States
CATEGORIES:Lost In Paris
END:VEVENT
BEGIN:VEVENT
DTSTART;TZID=America/New_York:20260313T220000
DTEND;TZID=America/New_York:20260314T013000
DTSTAMP:20260422T142050
CREATED:20251110T234742Z
LAST-MODIFIED:20260203T194114Z
UID:1076-1773439200-1773451800@midnightsunco.com
SUMMARY:LOST IN PARIS @ NOLA'S BAR - OCEAN CASINO
DESCRIPTION:Ocean Casino | Atlantic City\, NJ •  Venue Info
URL:https://midnightsunco.com/event/lost-in-paris-nolas-bar-ocean-casino-9/
LOCATION:Nola’s Bar & Lounge\, 500 Boardwalk\, Atlantic City\, NJ\, United States
CATEGORIES:Lost In Paris
END:VEVENT
BEGIN:VEVENT
DTSTART;TZID=America/New_York:20260314T190000
DTEND;TZID=America/New_York:20260314T230000
DTSTAMP:20260422T142050
CREATED:20251110T234742Z
LAST-MODIFIED:20260203T194114Z
UID:1077-1773514800-1773529200@midnightsunco.com
SUMMARY:LOST IN PARIS @ CHESAPEAKE INN
DESCRIPTION:Chesapeake City\, MD •  \nhttps://chesapeakeinn.com/
URL:https://midnightsunco.com/event/lost-in-paris-chesapeake-inn-7/
LOCATION:Chesapeake Inn Restaurant & Marina\, 605 2nd St\, Chesapeake City\, MD\, United States
CATEGORIES:Lost In Paris
END:VEVENT
BEGIN:VEVENT
DTSTART;TZID=America/New_York:20260321T213000
DTEND;TZID=America/New_York:20260322T010000
DTSTAMP:20260422T142050
CREATED:20251110T234742Z
LAST-MODIFIED:20260203T194114Z
UID:1078-1774128600-1774141200@midnightsunco.com
SUMMARY:LOST IN PARIS @ LOBBY BAR - HARD ROCK CASINO
DESCRIPTION:Atlantic City\, NJ •  \nVenue Info
URL:https://midnightsunco.com/event/lost-in-paris-lobby-bar-hard-rock-casino-7/
LOCATION:Hard Rock Hotel & Casino Atlantic City\, 1000 Boardwalk\, Atlantic City\, NJ\, United States
CATEGORIES:Lost In Paris
END:VEVENT
END:VCALENDAR