BEGIN:VCALENDAR
VERSION:2.0
PRODID:-//Midnight Sun - ECPv6.15.20//NONSGML v1.0//EN
CALSCALE:GREGORIAN
METHOD:PUBLISH
X-WR-CALNAME:Midnight Sun
X-ORIGINAL-URL:https://midnightsunco.com
X-WR-CALDESC:Events for Midnight Sun
REFRESH-INTERVAL;VALUE=DURATION:PT1H
X-Robots-Tag:noindex
X-PUBLISHED-TTL:PT1H
BEGIN:VTIMEZONE
TZID:America/New_York
BEGIN:DAYLIGHT
TZOFFSETFROM:-0500
TZOFFSETTO:-0400
TZNAME:EDT
DTSTART:20250309T070000
END:DAYLIGHT
BEGIN:STANDARD
TZOFFSETFROM:-0400
TZOFFSETTO:-0500
TZNAME:EST
DTSTART:20251102T060000
END:STANDARD
BEGIN:DAYLIGHT
TZOFFSETFROM:-0500
TZOFFSETTO:-0400
TZNAME:EDT
DTSTART:20260308T070000
END:DAYLIGHT
BEGIN:STANDARD
TZOFFSETFROM:-0400
TZOFFSETTO:-0500
TZNAME:EST
DTSTART:20261101T060000
END:STANDARD
BEGIN:DAYLIGHT
TZOFFSETFROM:-0500
TZOFFSETTO:-0400
TZNAME:EDT
DTSTART:20270314T070000
END:DAYLIGHT
BEGIN:STANDARD
TZOFFSETFROM:-0400
TZOFFSETTO:-0500
TZNAME:EST
DTSTART:20271107T060000
END:STANDARD
END:VTIMEZONE
BEGIN:VEVENT
DTSTART;TZID=America/New_York:20260205T183000
DTEND;TZID=America/New_York:20260205T213000
DTSTAMP:20260422T155512
CREATED:20260102T184946Z
LAST-MODIFIED:20260203T194113Z
UID:1148-1770316200-1770327000@midnightsunco.com
SUMMARY:LOST IN PARIS @ THE GREEN @ UTC - SARASOTA\, FLORIDA
DESCRIPTION:Sarasota\, FL •  \nVenue Details
URL:https://midnightsunco.com/event/lost-in-paris-the-green-utc/
LOCATION:The Green at UTC\, 301 N Cattlemen Rd\, Sarasota\, FL\, United States
CATEGORIES:Lost In Paris
END:VEVENT
BEGIN:VEVENT
DTSTART;TZID=America/New_York:20260206T180000
DTEND;TZID=America/New_York:20260206T220000
DTSTAMP:20260422T155512
CREATED:20260102T184947Z
LAST-MODIFIED:20260203T194113Z
UID:1150-1770400800-1770415200@midnightsunco.com
SUMMARY:LOST IN PARIS @ SOLIS HALL - DOWNTOWN WELLEN - FLORIDA
DESCRIPTION:North Port\, FL •  \nVenue Details
URL:https://midnightsunco.com/event/lost-in-paris-solis-hall-downtown-wellen/
LOCATION:Solis Hall\, 2399 Park Rd\, Venice\, FL\, United States
CATEGORIES:Lost In Paris
END:VEVENT
BEGIN:VEVENT
DTSTART;TZID=America/New_York:20260207T190000
DTEND;TZID=America/New_York:20260207T230000
DTSTAMP:20260422T155512
CREATED:20260102T184948Z
LAST-MODIFIED:20260203T194113Z
UID:1152-1770490800-1770505200@midnightsunco.com
SUMMARY:LOST IN PARIS @ WOODY'S RIVER ROO TIKI BAR - ELLENTON\, FLORIDA
DESCRIPTION: Ellenton\, FL •  \nhttps://woodysriverroo.com
URL:https://midnightsunco.com/event/lost-in-paris-woods-river-roo-tiki-bar/
LOCATION:WOODY’S RIVER ROO PUB\, Ellenton\, FL\, United States
CATEGORIES:Lost In Paris
END:VEVENT
BEGIN:VEVENT
DTSTART;TZID=America/New_York:20260213T210000
DTEND;TZID=America/New_York:20260214T020000
DTSTAMP:20260422T155512
CREATED:20251110T234741Z
LAST-MODIFIED:20260203T194113Z
UID:1071-1771016400-1771034400@midnightsunco.com
SUMMARY:LOST IN PARIS @ STATION 142
DESCRIPTION:West Chester\, PA •  \nhttps://station142.com
URL:https://midnightsunco.com/event/lost-in-paris-station-142-3/
LOCATION:Station 142\, 142 E Market St\, West Chester\, PA\, United States
CATEGORIES:Lost In Paris
END:VEVENT
BEGIN:VEVENT
DTSTART;TZID=America/New_York:20260217T190000
DTEND;TZID=America/New_York:20260217T230000
DTSTAMP:20260422T155512
CREATED:20251116T200726Z
LAST-MODIFIED:20260203T194113Z
UID:1094-1771354800-1771369200@midnightsunco.com
SUMMARY:LOST IN PARIS @ LOBBY BAR - HARD ROCK CASINO
DESCRIPTION:Atlantic City\, NJ •  \nVenue Info
URL:https://midnightsunco.com/event/lost-in-paris-lobby-bar-hard-rock-casino-8/
LOCATION:Hard Rock Hotel & Casino Atlantic City\, 1000 Boardwalk\, Atlantic City\, NJ\, United States
CATEGORIES:Lost In Paris
END:VEVENT
BEGIN:VEVENT
DTSTART;TZID=America/New_York:20260221T220000
DTEND;TZID=America/New_York:20260222T020000
DTSTAMP:20260422T155512
CREATED:20251110T234741Z
LAST-MODIFIED:20260203T194113Z
UID:1073-1771711200-1771725600@midnightsunco.com
SUMMARY:LOST IN PARIS @ THE WEST - CAESARS
DESCRIPTION:Atlantic City\, NJ •  Venue Info
URL:https://midnightsunco.com/event/lost-in-paris-the-west-caesars-5/
LOCATION:Caesars Atlantic City – A Caesars Rewards Destination\, 2100 Pacific Ave\, Atlantic City\, NJ\, United States
CATEGORIES:Lost In Paris
END:VEVENT
END:VCALENDAR